BEGIN:VCALENDAR
VERSION:2.0
PRODID:-//ChamberMaster//Event Calendar 2.0//EN
METHOD:PUBLISH
X-PUBLISHED-TTL:P3D
REFRESH-INTERVAL:P3D
CALSCALE:GREGORIAN
BEGIN:VEVENT
DTSTART:20230920T120000Z
DTEND:20230920T133000Z
X-MICROSOFT-CDO-ALLDAYEVENT:FALSE
SUMMARY:Coffee & Commerce - Review of Transform 2023
DESCRIPTION:On September 6th\, the EACC held its 2nd annual EACC TRANSFORMS Symposium for Operating companies on the topic of Sustainability as a Competitive Advantage. This invitation-only event brought together the top business leaders of our region and beyond\, both European and American\, to learn and share their experiences on the challenges and rewards of having an ESG strategy and actionable plans in place for business success.\n\n\n\nThis session of our Coffee and Commerce Series\, sponsored by Duke Energy\, will review our 2023 TRANSFORM symposium: we will share our key takeaways from the event and field questions from anyone who was unable to attend - or would like an opportunity to discuss more.
X-ALT-DESC;FMTTYPE=text/html:On September 6th\, the EACC held its 2nd annual EACC TRANSFORMS Symposium for Operating companies on the topic of <em>Sustainability as a Competitive Advantage</em>. This invitation-only event brought together the top business leaders of our region and beyond\, both European and American\, to learn and share their experiences on the challenges and rewards of having an ESG strategy and actionable plans in place for business success.<br />\n<br />\nThis session of our Coffee and Commerce Series\, sponsored by Duke Energy\, will review our 2023 TRANSFORM symposium:<em>&nbsp\;</em>we&nbsp\;will share our key takeaways from the event and field questions from anyone who was unable to attend - or would like an opportunity to discuss more.
LOCATION:Vega Americas 3877 Mason Research Pkwy Mason\, OH 45036
UID:e.2512.573
SEQUENCE:3
DTSTAMP:20260422T090027Z
URL:https://business.eacc-cincy.com/events/details/coffee-commerce-review-of-transform-2023-573
END:VEVENT

END:VCALENDAR
