BEGIN:VCALENDAR
VERSION:2.0
PRODID:-//ChamberMaster//Event Calendar 2.0//EN
METHOD:PUBLISH
X-PUBLISHED-TTL:P3D
REFRESH-INTERVAL:P3D
CALSCALE:GREGORIAN
BEGIN:VEVENT
DTSTART:20211118T230000Z
DTEND:20211118T233000Z
X-MICROSOFT-CDO-ALLDAYEVENT:FALSE
SUMMARY:EACC Annual General Meeting
DESCRIPTION:In accordance with the EACC Code of Regulations\, the EACC holds a general membership meeting once a year to elect board members and to conduct other business as necessary.  This meeting is traditionally held in November\, immediately before the Beaujolais Nouveau Premiere.
X-ALT-DESC;FMTTYPE=text/html:In accordance with the EACC Code of Regulations\, the EACC holds a general membership meeting once a year to elect board members and to conduct other business as necessary.&nbsp\; This meeting is traditionally held in November\, immediately before the <strong><a href="https://business.europe-cincinnati.com/events/details/2021-beaujolais-nouveau-premi%C3%A8re-314?calendarMonth=2021-11-01" target="_blank"><span style="color:#0000FF\;">Beaujolais Nouveau Premiere</span></a></strong>.
LOCATION:Hilton Cincinnati Netherland Plaza 35 West Fifth St. Cincinnati\, OH 45202
UID:e.2512.286
SEQUENCE:3
DTSTAMP:20260422T021520Z
URL:https://business.eacc-cincy.com/events/details/eacc-annual-general-meeting-286
END:VEVENT

END:VCALENDAR
