BEGIN:VCALENDAR
VERSION:2.0
PRODID:-//ChamberMaster//Event Calendar 2.0//EN
METHOD:PUBLISH
X-PUBLISHED-TTL:P3D
REFRESH-INTERVAL:P3D
CALSCALE:GREGORIAN
BEGIN:VEVENT
DTSTART:20210127T160000Z
DTEND:20210127T170000Z
X-MICROSOFT-CDO-ALLDAYEVENT:FALSE
SUMMARY:EACC Network Webinar - The Future of the Transatlantic Relationship with the New US Administration
DESCRIPTION:Join us for discussion with H.E. Stavros Lambrinidis\, the EU Ambassador to the United States\, about the outlook for transatlantic relations under the Biden-Harris Presidency. The Ambassador will outline the recent Joint Communication on a new EU-US agenda for global change\, issued by European Commission President Ursula von der Leyen and High Representative and Commission Vice President Josep Borrell Fontelles on December 2\, 2020.\n\n\n\nWe will explore the EU's moves to engage the incoming Administration on a number of fronts - to ensure recovery from COVID-19\, resolve trade tensions\, boost cooperation on climate\, and work together to reform and reinforce multilateral organizations including the WTO and WHO.\n\n\n\nSPEAKERS:\n\n	H.E. Stavros Lambrinidis the Ambassador of the European Union to the United States\n	Other Speakers and Moderator to be announced
X-ALT-DESC;FMTTYPE=text/html:Join us for discussion with H.E. Stavros Lambrinidis\, the EU Ambassador to the United States\, about the outlook for transatlantic relations under the Biden-Harris Presidency. The Ambassador will outline the recent Joint Communication on a new EU-US agenda for global change\, issued by European Commission President Ursula von der Leyen and High Representative and Commission Vice President Josep Borrell Fontelles on December 2\, 2020.<br />\n<br />\nWe will explore the EU&rsquo\;s moves to engage the incoming Administration on a number of fronts - to ensure recovery from COVID-19\, resolve trade tensions\, boost cooperation on climate\, and work together to reform and reinforce multilateral organizations including the WTO and WHO.<br />\n<br />\nSPEAKERS:\n<ul>\n	<li>H.E. Stavros Lambrinidis the Ambassador of the European Union to the United States</li>\n	<li>Other Speakers and Moderator to be announced</li>\n</ul>\n
LOCATION:Webinar
UID:e.2512.288
SEQUENCE:3
DTSTAMP:20260421T222444Z
URL:https://business.eacc-cincy.com/events/details/eacc-network-webinar-the-future-of-the-transatlantic-relationship-with-the-new-us-administration-288
END:VEVENT

END:VCALENDAR
