BEGIN:VCALENDAR
VERSION:2.0
PRODID:-//ChamberMaster//Event Calendar 2.0//EN
METHOD:PUBLISH
X-PUBLISHED-TTL:P3D
REFRESH-INTERVAL:P3D
CALSCALE:GREGORIAN
BEGIN:VEVENT
DTSTART:20210616T150000Z
DTEND:20210616T160000Z
X-MICROSOFT-CDO-ALLDAYEVENT:FALSE
SUMMARY:The Power Of Transatlantic Cooperation: How EU & US Innovators Joined Forces In The Fight Against The Pandemic - EACC Network Webinar
DESCRIPTION:The pandemic has highlighted the importance of private sector and public private partnerships in developing vaccines\, therapeutics and other medical products in response to COVID-19 and various European and American companies are jointly contributing to the solution. The pandemic also exposed the need for secure global supply chains for PPE and medical devices and exposed the over-dependence of third world countries.\n\n\n\nThe panel will discuss the following topics: \n\n	The pandemic highlighted the important role of private sector and public private partnerships in response to COVID-19\; in developing vaccines\, therapeutics\, and other medical products.\n	A wide range of European and American companies are jointly contributing to the solution. \n	The pandemic exposed the need for a secure global supply chain of PPEs and medical devices\, and exposed the over-dependence on third countries.\n	Countries follow widely different approaches\, regarding testing\, lock-downs etc.\n	Fighting disinformation regarding the disease and the vaccine.\n\n\n\nSPEAKERS:\n\n\n	Peter Gajdos\, Executive Chairman\, CHIRANA\n	Robert Langer\, Koch Institute Professor\, MIT/LANGER LAB  \n	Elaine Brennan\, Executive Director\, Strategic Partnerships\, NORTHWELL HEALTH\n	Gareth Hagan\, Deputy CEO\, OCO GLOBAL [Moderator]\n	Additional Panelist TBA
X-ALT-DESC;FMTTYPE=text/html:The pandemic has highlighted the importance of private sector and public private partnerships in developing vaccines\, therapeutics and other medical products in response to COVID-19 and various European and American companies are jointly contributing to the solution. The pandemic also exposed the need for secure global supply chains for PPE and medical devices and exposed the over-dependence of third world countries.<br />\n<br />\nThe panel will discuss the following topics:&nbsp\;\n<ul>\n	<li>The pandemic highlighted the important role of private sector and public private partnerships in response to COVID-19\; in developing vaccines\, therapeutics\, and other medical products.</li>\n	<li>A wide range of European and American companies are jointly contributing to the solution.&nbsp\;</li>\n	<li>The pandemic exposed the need for a secure global supply chain of PPEs and medical devices\, and exposed the over-dependence on third countries.</li>\n	<li>Countries follow widely different approaches\, regarding testing\, lock-downs etc.</li>\n	<li>Fighting disinformation regarding the disease and the vaccine.</li>\n</ul>\n<br />\n<strong>SPEAKERS:</strong>\n\n<ul>\n	<li>Peter Gajdos\, Executive Chairman\, CHIRANA</li>\n	<li>Robert Langer\, Koch Institute Professor\, MIT/LANGER LAB&nbsp\;&nbsp\;</li>\n	<li>Elaine Brennan\, Executive Director\, Strategic Partnerships\, NORTHWELL HEALTH</li>\n	<li>Gareth Hagan\, Deputy CEO\, OCO GLOBAL [Moderator]</li>\n	<li>Additional Panelist TBA</li>\n</ul>\n
LOCATION:Webinar
UID:e.2512.304
SEQUENCE:3
DTSTAMP:20260422T094036Z
URL:https://business.eacc-cincy.com/events/details/the-power-of-transatlantic-cooperation-how-eu-us-innovators-joined-forces-in-the-fight-against-the-pandemic-eacc-network-webinar-304
END:VEVENT

END:VCALENDAR
